BEGIN:VCALENDAR
VERSION:2.0
PRODID:-//https://wernergitt.com///NONSGML kigkonsult.se iCalcreator 2.10.15//
METHOD:PUBLISH
BEGIN:VEVENT
UID:20260421T100059CEST-7301pu3UoE@https://wernergitt.com/
DTSTAMP:20260421T080059Z
DESCRIPTION:Weitere Infos werden folgen!\nhttps://wernergitt.com/en/evangel
 ist/alle-veranstaltungen/evangelisationen-vortraege/event/4033-evangelisat
 ion
DTSTART:20261101T073700Z
DTEND:20261108T093700Z
LOCATION:MBG Nümbrecht (Wiehler Str. 4\, 51588 Nümbrecht\, Deutschland)
SUMMARY:Evangelisation mit Christian Kutsch
URL:https://wernergitt.com/en/evangelist/alle-veranstaltungen/evangelisatio
 nen-vortraege/event/4033-evangelisation
END:VEVENT
END:VCALENDAR
