BEGIN:VCALENDAR
VERSION:2.0
PRODID:-//https://wernergitt.com///NONSGML kigkonsult.se iCalcreator 2.10.15//
METHOD:PUBLISH
BEGIN:VEVENT
UID:20260423T104728CEST-0399Xx4mwU@https://wernergitt.com/
DTSTAMP:20260423T084728Z
DESCRIPTION:Themen\nDonnerstag 29.10.2026\,&nbsp\;Thema\nFreitag\, 30.10.20
 26\,Thema\nSamstag\, 31.10.2026Thema\nSonntag\, 01.11.2026\; 10.00 UhrThem
 a\nUnser Vorschlag:Selbst kommen und andere mitbringen!\nhttps://wernergit
 t.com/en/evangelist/alle-veranstaltungen/evangelisationen-vortraege/event/
 4138-evangelisation
DTSTART:20261029T163800Z
DTEND:20261101T183800Z
LOCATION:Gemeinde Evangelischer Christen\, Basel (Socinstrasse 13\, 4051 Ba
 sel\, Schweiz)
SUMMARY:Evangelisation mit Beat Abry
URL:https://wernergitt.com/en/evangelist/alle-veranstaltungen/evangelisatio
 nen-vortraege/event/4138-evangelisation
END:VEVENT
END:VCALENDAR
