BEGIN:VCALENDAR
VERSION:2.0
PRODID:-//https://wernergitt.com///NONSGML kigkonsult.se iCalcreator 2.10.15//
METHOD:PUBLISH
BEGIN:VEVENT
UID:20260421T101839CEST-5066VIVNP1@https://wernergitt.com/
DTSTAMP:20260421T081839Z
DESCRIPTION:Themen\nFreitag\, 24.04.2026\, 19.00 UhrThema folgt\nSamstag\, 
 25.04.2026\, 18.00 UhrThema folgt\nSonntag\, 26.04.2026\, 10.00 UhrThema f
 olgt\n&nbsp\;\nhttps://wernergitt.com/en/evangelist/alle-veranstaltungen/e
 vangelisationen-vortraege/event/4165-evangelisation
DTSTART:20260424T085200Z
DTEND:20260426T105200Z
LOCATION:Mennoniten Gemeinde Neuwied (Matthias-Erzberger-Straße 60\, 56564 
 Neuwied\, Deutschland)
SUMMARY:Evangelisation mit Christian Kutsch
URL:https://wernergitt.com/en/evangelist/alle-veranstaltungen/evangelisatio
 nen-vortraege/event/4165-evangelisation
END:VEVENT
END:VCALENDAR
