BEGIN:VCALENDAR
VERSION:2.0
PRODID:-//https://wernergitt.com///NONSGML kigkonsult.se iCalcreator 2.10.15//
METHOD:PUBLISH
BEGIN:VEVENT
UID:20260421T100915CEST-8825ww5Scl@https://wernergitt.com/
DTSTAMP:20260421T080915Z
DESCRIPTION:Themen\nSamstag\, 28.11.2026\, 19.00 UhrThema folgt zeitnah\nSo
 nntag\, 29.11.2026\, 10.00 UhrThema folgt zeitnah\nUnser Vorschlag:Selbst 
 kommen und andere mitbringen!\nhttps://wernergitt.com/en/evangelist/alle-v
 eranstaltungen/evangelisationen-vortraege/event/4241-vortraege
DTSTART:20261128T062700Z
DTEND:20261129T082700Z
LOCATION:EFG WORT DES LEBENS Gehrde (Striddingsweg 4\, 49596 Gehrde\, Deuts
 chland)
SUMMARY:Vorträge von Christian Kutsch
URL:https://wernergitt.com/en/evangelist/alle-veranstaltungen/evangelisatio
 nen-vortraege/event/4241-vortraege
END:VEVENT
END:VCALENDAR
