BEGIN:VCALENDAR
VERSION:2.0
PRODID:-//https://wernergitt.com///NONSGML kigkonsult.se iCalcreator 2.10.15//
METHOD:PUBLISH
BEGIN:VEVENT
UID:20260419T142954CEST-4473vXD9gn@https://wernergitt.com/
DTSTAMP:20260419T122954Z
DESCRIPTION:Termine\nMittwoch\, 07.10.2026\, 19.00 Uhr\nDonnerstag\, 08.10.
 2026\, 19.00 Uhr\nFreitag\, 09.10.2026\, 19.00 Uhr\nSamstag\, 10.10.2026\,
  17.00 Uhr\nSonntag\, 11.10.05.2026\, 10.00 Uhr\nUnser Vorschlag:Selbst ko
 mmen und andere mitbringen!\nhttps://wernergitt.com/en/evangelist/alle-ver
 anstaltungen/evangelisationen-vortraege/event/4250-evangelisation
DTSTART:20261007T101100Z
DTEND:20261011T121100Z
LOCATION:Mennoniten-Kirchengemeinde Espelkamp (Am Fabbenstedter Graben 1A\,
  32339 Espelkamp\, Deutschland)
SUMMARY:Evangelisation mit Manfred Röseler
URL:https://wernergitt.com/en/evangelist/alle-veranstaltungen/evangelisatio
 nen-vortraege/event/4250-evangelisation
END:VEVENT
END:VCALENDAR
