BEGIN:VCALENDAR
VERSION:2.0
PRODID:-//https://wernergitt.com///NONSGML kigkonsult.se iCalcreator 2.10.15//
METHOD:PUBLISH
BEGIN:VEVENT
UID:20260421T101915CEST-8924vJ1LOM@https://wernergitt.com/
DTSTAMP:20260421T081915Z
DESCRIPTION:Diese Vorträge dienen zur Vorbereitung für die Evangelisation i
 m September. Es handelt such hierbei um eine interne Veranstaltung.\nhttps
 ://wernergitt.com/en/evangelist/alle-veranstaltungen/evangelisationen-vort
 raege/event/4253-vortraege
DTSTART:20260612T093900Z
DTEND:20260613T113900Z
LOCATION:Mennoniten Gemeinde Detmold (Lemgoer Str. 84\, 32756 Detmold\, Deu
 tschland)
SUMMARY:Vorträge von Christian Kutsch
URL:https://wernergitt.com/en/evangelist/alle-veranstaltungen/evangelisatio
 nen-vortraege/event/4253-vortraege
END:VEVENT
END:VCALENDAR
