BEGIN:VCALENDAR
VERSION:2.0
PRODID:-//https://wernergitt.com///NONSGML kigkonsult.se iCalcreator 2.10.15//
METHOD:PUBLISH
BEGIN:VEVENT
UID:20260419T142954CEST-0020Kk7f3K@https://wernergitt.com/
DTSTAMP:20260419T122954Z
DESCRIPTION:Weitere Infos\nSeminar um 10.00 - 14.30 UhrMut zur Botschaft: P
 ersönliche Evangelisation in einer skeptischen Zeit\nUnser Vorschlag:Selbs
 t kommen und andere mitbringen!\nhttps://wernergitt.com/en/evangelist/alle
 -veranstaltungen/evangelisationen-vortraege/event/4300-persoenliche-evange
 lisation-seminar
DTSTART:20260418T081800Z
DTEND:20260418T101800Z
LOCATION:Mennoniten-Gemeinde BB e. V.  (Rudolf-Leonhard-Straße 11\, 12679 B
 erlin\, Deutschland)
SUMMARY:Persönliche Evangelisation (Seminar)  mit Josef Drazil
URL:https://wernergitt.com/en/evangelist/alle-veranstaltungen/evangelisatio
 nen-vortraege/event/4300-persoenliche-evangelisation-seminar
END:VEVENT
END:VCALENDAR
