BEGIN:VCALENDAR
VERSION:2.0
PRODID:-//https://wernergitt.com///NONSGML kigkonsult.se iCalcreator 2.10.15//
METHOD:PUBLISH
BEGIN:VEVENT
UID:20260423T120757CEST-9089xwGp2L@https://wernergitt.com/
DTSTAMP:20260423T100757Z
DESCRIPTION:Weitere Infos\nMännerfreizeit vom 24.-26.04.2026Standfest: Als 
 Mann Jesus nachfolgen im Alltag\nWo: Am Sieperloh 7\, 34508 WillingenAlter
 : ab 18 (ggf. wer 17 ist\, gerne absprechen über&nbsp\;info@gfecf.de)\nUns
 er Vorschlag:Selbst mit anderen anmelden!&nbsp\;\nhttps://wernergitt.com/e
 n/evangelist/alle-veranstaltungen/evangelisationen-vortraege/event/4301-ma
 ennerwochenende
DTSTART:20260424T082800Z
DTEND:20260426T102800Z
LOCATION:Gemeinde freier evangelischer Christen Felsberg (Poststraße 8\, 34
 587 Felsberg\, Deutschland)
SUMMARY:Männerwochenende  mit Josef Drazil
URL:https://wernergitt.com/en/evangelist/alle-veranstaltungen/evangelisatio
 nen-vortraege/event/4301-maennerwochenende
END:VEVENT
END:VCALENDAR
