BEGIN:VCALENDAR
VERSION:2.0
PRODID:-//https://wernergitt.com///NONSGML kigkonsult.se iCalcreator 2.10.15//
METHOD:PUBLISH
BEGIN:VEVENT
UID:20260421T101852CEST-6764icGtb4@https://wernergitt.com/
DTSTAMP:20260421T081852Z
DESCRIPTION:Weitere Infos\nDer Veranstaltungsort der Open Air Evangelisatio
 n steht noch offen:entweder Gärten der Welt\, Eingang Blumberger Damm\,&nb
 sp\;von 10:00 bis 13:00 Uhroder&nbsp\;Eastgate\,&nbsp\;Einkaufszentrum\, v
 on 16:00 bis 19:00 Uhr.\nUnser Vorschlag:Selbst kommen und andere mitbring
 en!&nbsp\;\nhttps://wernergitt.com/en/evangelist/alle-veranstaltungen/evan
 gelisationen-vortraege/event/4302-open-air-evangelisation
DTSTART:20260509T083800Z
DTEND:20260509T103800Z
LOCATION:Mennoniten-Gemeinde BB e. V.  (Rudolf-Leonhard-Straße 11\, 12679 B
 erlin\, Deutschland)
SUMMARY:Open Air Evangelisation mit Josef Drazil
URL:https://wernergitt.com/en/evangelist/alle-veranstaltungen/evangelisatio
 nen-vortraege/event/4302-open-air-evangelisation
END:VEVENT
END:VCALENDAR
