BEGIN:VCALENDAR
VERSION:2.0
PRODID:-//https://wernergitt.com///NONSGML kigkonsult.se iCalcreator 2.10.15//
METHOD:PUBLISH
BEGIN:VEVENT
UID:20260421T101836CEST-7707lO7ScZ@https://wernergitt.com/
DTSTAMP:20260421T081836Z
DESCRIPTION:Themen\nMittwoch\, 07.04.2027\, 19.00 UhrThema\nDonnerstag\, 08
 .04.2027\, 19.00 UhrThema\nFreitag\, 09.04.2027\, 19.00 UhrThema\nSamstag\
 , 10.04.2027\, 19.00 UhrThema\nSonntag\, 11.04.2027\, 10.00 UhrThema\nUnse
 r Vorschlag:Selbst kommen und andere mitbringen!\n\nhttps://wernergitt.com
 /en/evangelist/alle-veranstaltungen/evangelisationen-vortraege/event/4319-
 evangelisation
DTSTART:20270406T220000Z
DTEND:20270411T073500Z
LOCATION:Evangelische Bibelgemeinde\, 38518 Gifhorn (Braunschweiger Str. 10
 8\, 38518 Gifhorn\, Deutschland)
SUMMARY:Evangelisation mit Beat Abry
URL:https://wernergitt.com/en/evangelist/alle-veranstaltungen/evangelisatio
 nen-vortraege/event/4319-evangelisation
END:VEVENT
END:VCALENDAR
