BEGIN:VCALENDAR
VERSION:2.0
PRODID:-//https://wernergitt.com///NONSGML kigkonsult.se iCalcreator 2.10.15//
METHOD:PUBLISH
BEGIN:VEVENT
UID:20260421T101859CEST-4746l8Zgn0@https://wernergitt.com/
DTSTAMP:20260421T081859Z
DESCRIPTION:Themen\nFreitag\, 16.10.2026\, 19.00 UhrThema offen\nSamstag\, 
 17.10.2026\, 19.00 UhrThema offen\nSonntag\, 18.10.2026\, 10.00 UhrThema o
 ffen\nUnser Vorschlag:Selbst kommen und andere mitbringen!\nhttps://werner
 gitt.com/en/evangelist/alle-veranstaltungen/evangelisationen-vortraege/eve
 nt/4356-evangelisation
DTSTART:20261016T100400Z
DTEND:20261018T120400Z
LOCATION:Evangeliums Christen Gemeinde Hannover (Ikarusallee 30\, 30179 Han
 nover\, Deutschland)
SUMMARY:Evangelisation  mit Josef Drazil
URL:https://wernergitt.com/en/evangelist/alle-veranstaltungen/evangelisatio
 nen-vortraege/event/4356-evangelisation
END:VEVENT
END:VCALENDAR
